BEGIN:VCALENDAR
VERSION:2.0
PRODID:-//The Work of a Carpenter Ministries - ECPv6.15.20//NONSGML v1.0//EN
CALSCALE:GREGORIAN
METHOD:PUBLISH
X-WR-CALNAME:The Work of a Carpenter Ministries
X-ORIGINAL-URL:https://www.theworkofacarpenterministries.org
X-WR-CALDESC:Events for The Work of a Carpenter Ministries
REFRESH-INTERVAL;VALUE=DURATION:PT1H
X-Robots-Tag:noindex
X-PUBLISHED-TTL:PT1H
BEGIN:VTIMEZONE
TZID:UTC
BEGIN:STANDARD
TZOFFSETFROM:+0000
TZOFFSETTO:+0000
TZNAME:UTC
DTSTART:20250101T000000
END:STANDARD
END:VTIMEZONE
BEGIN:VEVENT
DTSTART;TZID=UTC:20260405T110000
DTEND;TZID=UTC:20260405T123000
DTSTAMP:20260423T221227
CREATED:20260331T202549Z
LAST-MODIFIED:20260331T203732Z
UID:3173-1775386800-1775392200@www.theworkofacarpenterministries.org
SUMMARY:Cornerstone Baptist Church
DESCRIPTION:Worship\, Special Music\, and Message.
URL:https://www.theworkofacarpenterministries.org/event/cornerstone-baptist-church/
LOCATION:Cornerstone Baptist Church\, 18765 Hwy 14E\, Harrisburg\, AR\, 72432\, United States
END:VEVENT
END:VCALENDAR