BEGIN:VCALENDAR
VERSION:2.0
PRODID:-//The Work of a Carpenter Ministries - ECPv6.15.20//NONSGML v1.0//EN
CALSCALE:GREGORIAN
METHOD:PUBLISH
X-WR-CALNAME:The Work of a Carpenter Ministries
X-ORIGINAL-URL:https://www.theworkofacarpenterministries.org
X-WR-CALDESC:Events for The Work of a Carpenter Ministries
REFRESH-INTERVAL;VALUE=DURATION:PT1H
X-Robots-Tag:noindex
X-PUBLISHED-TTL:PT1H
BEGIN:VTIMEZONE
TZID:UTC
BEGIN:STANDARD
TZOFFSETFROM:+0000
TZOFFSETTO:+0000
TZNAME:UTC
DTSTART:20250101T000000
END:STANDARD
END:VTIMEZONE
BEGIN:VEVENT
DTSTART;TZID=UTC:20260412T100000
DTEND;TZID=UTC:20260412T233000
DTSTAMP:20260423T185735
CREATED:20260331T203428Z
LAST-MODIFIED:20260331T203428Z
UID:3181-1775988000-1776036600@www.theworkofacarpenterministries.org
SUMMARY:Crossroads Connection
DESCRIPTION:Worship\, Special Music\, and Worship.
URL:https://www.theworkofacarpenterministries.org/event/crossroads-connection/
LOCATION:Crossroads Connection\, 44 EC 470\, Lake Panasofkee\, FL\, 33538\, United States
END:VEVENT
END:VCALENDAR