BEGIN:VCALENDAR
VERSION:2.0
PRODID:-//The Work of a Carpenter Ministries - ECPv6.15.20//NONSGML v1.0//EN
CALSCALE:GREGORIAN
METHOD:PUBLISH
X-WR-CALNAME:The Work of a Carpenter Ministries
X-ORIGINAL-URL:https://www.theworkofacarpenterministries.org
X-WR-CALDESC:Events for The Work of a Carpenter Ministries
REFRESH-INTERVAL;VALUE=DURATION:PT1H
X-Robots-Tag:noindex
X-PUBLISHED-TTL:PT1H
BEGIN:VTIMEZONE
TZID:UTC
BEGIN:STANDARD
TZOFFSETFROM:+0000
TZOFFSETTO:+0000
TZNAME:UTC
DTSTART:20250101T000000
END:STANDARD
END:VTIMEZONE
BEGIN:VEVENT
DTSTART;TZID=UTC:20260322T100000
DTEND;TZID=UTC:20260322T113000
DTSTAMP:20260424T000119
CREATED:20260320T171508Z
LAST-MODIFIED:20260320T171508Z
UID:2956-1774173600-1774179000@www.theworkofacarpenterministries.org
SUMMARY:Foothills Cowboy Church
DESCRIPTION:Worship\, Special Music and Message
URL:https://www.theworkofacarpenterministries.org/event/foothills-cowboy-church/
LOCATION:Foothills Cowboy Church\, Batesville\, AR\, United States
END:VEVENT
END:VCALENDAR