BEGIN:VCALENDAR
VERSION:2.0
PRODID:-//The Work of a Carpenter Ministries - ECPv6.15.20//NONSGML v1.0//EN
CALSCALE:GREGORIAN
METHOD:PUBLISH
X-WR-CALNAME:The Work of a Carpenter Ministries
X-ORIGINAL-URL:https://www.theworkofacarpenterministries.org
X-WR-CALDESC:Events for The Work of a Carpenter Ministries
REFRESH-INTERVAL;VALUE=DURATION:PT1H
X-Robots-Tag:noindex
X-PUBLISHED-TTL:PT1H
BEGIN:VTIMEZONE
TZID:UTC
BEGIN:STANDARD
TZOFFSETFROM:+0000
TZOFFSETTO:+0000
TZNAME:UTC
DTSTART:20250101T000000
END:STANDARD
END:VTIMEZONE
BEGIN:VEVENT
DTSTART;TZID=UTC:20260502T160000
DTEND;TZID=UTC:20260502T173000
DTSTAMP:20260423T140439
CREATED:20260331T205645Z
LAST-MODIFIED:20260331T205645Z
UID:3204-1777737600-1777743000@www.theworkofacarpenterministries.org
SUMMARY:Foundation Church
DESCRIPTION:Worship\, Special Music\, and Message.
URL:https://www.theworkofacarpenterministries.org/event/foundation-church/
LOCATION:Foundation Church\, 7785 South State Hwy 97\, Sapulpa\, OK\, 74066\, United States
END:VEVENT
END:VCALENDAR