BEGIN:VCALENDAR
VERSION:2.0
PRODID:-//The Work of a Carpenter Ministries - ECPv6.15.20//NONSGML v1.0//EN
CALSCALE:GREGORIAN
METHOD:PUBLISH
X-WR-CALNAME:The Work of a Carpenter Ministries
X-ORIGINAL-URL:https://www.theworkofacarpenterministries.org
X-WR-CALDESC:Events for The Work of a Carpenter Ministries
REFRESH-INTERVAL;VALUE=DURATION:PT1H
X-Robots-Tag:noindex
X-PUBLISHED-TTL:PT1H
BEGIN:VTIMEZONE
TZID:UTC
BEGIN:STANDARD
TZOFFSETFROM:+0000
TZOFFSETTO:+0000
TZNAME:UTC
DTSTART:20250101T000000
END:STANDARD
END:VTIMEZONE
BEGIN:VEVENT
DTSTART;TZID=UTC:20260419T104500
DTEND;TZID=UTC:20260419T123000
DTSTAMP:20260423T171443
CREATED:20260404T165113Z
LAST-MODIFIED:20260404T165115Z
UID:3482-1776595500-1776601800@www.theworkofacarpenterministries.org
SUMMARY:The Rock Church
DESCRIPTION:
URL:https://www.theworkofacarpenterministries.org/event/the-rock-church/
LOCATION:The Rock Church\, 409 North Hamilton\, Bokchito\, OK\, 74726\, United States
END:VEVENT
END:VCALENDAR