BEGIN:VCALENDAR
VERSION:2.0
PRODID:-//The Work of a Carpenter Ministries - ECPv6.15.20//NONSGML v1.0//EN
CALSCALE:GREGORIAN
METHOD:PUBLISH
X-WR-CALNAME:The Work of a Carpenter Ministries
X-ORIGINAL-URL:https://www.theworkofacarpenterministries.org
X-WR-CALDESC:Events for The Work of a Carpenter Ministries
REFRESH-INTERVAL;VALUE=DURATION:PT1H
X-Robots-Tag:noindex
X-PUBLISHED-TTL:PT1H
BEGIN:VTIMEZONE
TZID:UTC
BEGIN:STANDARD
TZOFFSETFROM:+0000
TZOFFSETTO:+0000
TZNAME:UTC
DTSTART:20250101T000000
END:STANDARD
END:VTIMEZONE
BEGIN:VEVENT
DTSTART;TZID=UTC:20260430T190000
DTEND;TZID=UTC:20260430T203000
DTSTAMP:20260423T121653
CREATED:20260331T204637Z
LAST-MODIFIED:20260331T204637Z
UID:10000006-1777575600-1777581000@www.theworkofacarpenterministries.org
SUMMARY:Chrissie's House
DESCRIPTION:Worship\, Special Music\, Message.
URL:https://www.theworkofacarpenterministries.org/event/chrissies-house/
LOCATION:Chrissie’s House\, 1706 W. Center Street\, Beebe\, AR\, 72012\, United States
END:VEVENT
BEGIN:VEVENT
DTSTART;TZID=UTC:20260502T160000
DTEND;TZID=UTC:20260502T173000
DTSTAMP:20260423T121653
CREATED:20260331T205645Z
LAST-MODIFIED:20260331T205645Z
UID:10000007-1777737600-1777743000@www.theworkofacarpenterministries.org
SUMMARY:Foundation Church
DESCRIPTION:Worship\, Special Music\, and Message.
URL:https://www.theworkofacarpenterministries.org/event/foundation-church/
LOCATION:Foundation Church\, 7785 South State Hwy 97\, Sapulpa\, OK\, 74066\, United States
END:VEVENT
BEGIN:VEVENT
DTSTART;TZID=UTC:20260503T104500
DTEND;TZID=UTC:20260503T120000
DTSTAMP:20260423T121653
CREATED:20260331T205802Z
LAST-MODIFIED:20260331T205802Z
UID:10000008-1777805100-1777809600@www.theworkofacarpenterministries.org
SUMMARY:Canyon Road Baptist Church
DESCRIPTION:
URL:https://www.theworkofacarpenterministries.org/event/canyon-road-baptist-church/
LOCATION:Canyon Road Baptist Church\, 8550 South 49th West Avenue\, Tulsa\, OK\, 74131\, United States
END:VEVENT
BEGIN:VEVENT
DTSTART;TZID=UTC:20260503T180000
DTEND;TZID=UTC:20260503T193000
DTSTAMP:20260423T121653
CREATED:20260331T205912Z
LAST-MODIFIED:20260331T205912Z
UID:10000009-1777831200-1777836600@www.theworkofacarpenterministries.org
SUMMARY:Harvest Time Assembly of God
DESCRIPTION:
URL:https://www.theworkofacarpenterministries.org/event/harvest-time-assembly-of-god/
LOCATION:Harvest Time Assembly of God\, 1511 South 81st W Avenue\, Tulsa\, OK\, 74127\, United States
END:VEVENT
BEGIN:VEVENT
DTSTART;TZID=UTC:20260505T190000
DTEND;TZID=UTC:20260505T203000
DTSTAMP:20260423T121653
CREATED:20260331T210050Z
LAST-MODIFIED:20260331T210050Z
UID:10000010-1778007600-1778013000@www.theworkofacarpenterministries.org
SUMMARY:Chisolm Trail Cowboy Church
DESCRIPTION:
URL:https://www.theworkofacarpenterministries.org/event/chisolm-trail-cowboy-church/
LOCATION:Chisholm Trail Cowboy Church\, 11802 W Owen Garriott Road\, Enid\, OK\, 73703\, United States
END:VEVENT
BEGIN:VEVENT
DTSTART;TZID=UTC:20260506T190000
DTEND;TZID=UTC:20260506T203000
DTSTAMP:20260423T121653
CREATED:20260331T210212Z
LAST-MODIFIED:20260331T210212Z
UID:10000011-1778094000-1778099400@www.theworkofacarpenterministries.org
SUMMARY:Canadian County Cowboy Church
DESCRIPTION:
URL:https://www.theworkofacarpenterministries.org/event/canadian-county-cowboy-church/
LOCATION:Canadian County Cowboy Church\, 550 E Main Street\, Yukon\, OK\, 73099\, United States
END:VEVENT
BEGIN:VEVENT
DTSTART;TZID=UTC:20260507T103000
DTEND;TZID=UTC:20260507T120000
DTSTAMP:20260423T121653
CREATED:20260331T211353Z
LAST-MODIFIED:20260331T211620Z
UID:10000012-1778149800-1778155200@www.theworkofacarpenterministries.org
SUMMARY:Carbondale Assembly of God (Senior Adult Breakfast)
DESCRIPTION:Worship\, Special Music\, and Message.
URL:https://www.theworkofacarpenterministries.org/event/carbondale-assembly-of-god-senior-adult-breakfast/
LOCATION:Carbondale Assembly of God\, 2135 W 51st Street\, Tulsa\, OK\, 74107\, United States
END:VEVENT
BEGIN:VEVENT
DTSTART;TZID=UTC:20260507T190000
DTEND;TZID=UTC:20260507T203000
DTSTAMP:20260423T121653
CREATED:20260331T211448Z
LAST-MODIFIED:20260331T211704Z
UID:10000013-1778180400-1778185800@www.theworkofacarpenterministries.org
SUMMARY:Happy Acres Cowboy Church
DESCRIPTION:Worship\, Special Music\, and Message.
URL:https://www.theworkofacarpenterministries.org/event/happy-acres-cowboy-church/
LOCATION:Happy Acres Cowboy Church\, 5270 W 171st Street\, Kiefer\, OK\, 74047\, United States
END:VEVENT
BEGIN:VEVENT
DTSTART;TZID=UTC:20260508T180000
DTEND;TZID=UTC:20260508T193000
DTSTAMP:20260423T121653
CREATED:20260331T211557Z
LAST-MODIFIED:20260331T211557Z
UID:10000014-1778263200-1778268600@www.theworkofacarpenterministries.org
SUMMARY:Joyce Johnson Ministries
DESCRIPTION:Worship\, Special Music\, and Message.
URL:https://www.theworkofacarpenterministries.org/event/joyce-johnson-ministries/
LOCATION:Joyce Johnson Ministries\, 11226 North Garnett\, Tulsa\, OK\, 74055\, United States
END:VEVENT
BEGIN:VEVENT
DTSTART;TZID=UTC:20260510T100000
DTEND;TZID=UTC:20260510T233000
DTSTAMP:20260423T121653
CREATED:20260331T212724Z
LAST-MODIFIED:20260331T212724Z
UID:10000015-1778407200-1778455800@www.theworkofacarpenterministries.org
SUMMARY:Cowboy Gathering Church
DESCRIPTION:Worship\, Special Music\, and Message.
URL:https://www.theworkofacarpenterministries.org/event/cowboy-gathering-church/
LOCATION:Cowboy Gathering Church\, 30707 S 4240 Road\, Inola\, OK\, 74036\, United States
END:VEVENT
BEGIN:VEVENT
DTSTART;VALUE=DATE:20260518
DTEND;VALUE=DATE:20260522
DTSTAMP:20260423T121653
CREATED:20260331T212931Z
LAST-MODIFIED:20260331T212931Z
UID:10000016-1779062400-1779407999@www.theworkofacarpenterministries.org
SUMMARY:Kiamichi Mountains Christian Center
DESCRIPTION:Worship\, Special Music\, and Message for 4-Day Event.
URL:https://www.theworkofacarpenterministries.org/event/kiamichi-mountains-christian-center/
LOCATION:Kiamichi Mountains Christian Center\, 37529 Indian Trail\, Honobia\, OK\, 74549\, United States
END:VEVENT
BEGIN:VEVENT
DTSTART;TZID=UTC:20260524T093000
DTEND;TZID=UTC:20260524T110000
DTSTAMP:20260423T121653
CREATED:20260331T213100Z
LAST-MODIFIED:20260331T213100Z
UID:10000017-1779615000-1779620400@www.theworkofacarpenterministries.org
SUMMARY:Wagons for Warriors
DESCRIPTION:Worship\, Special Music\, and Message.
URL:https://www.theworkofacarpenterministries.org/event/wagons-for-warriors/
LOCATION:Wagons for Warriors\, Lebanon Fairgrounds\, Lebanon\, MO\, United States
END:VEVENT
END:VCALENDAR