BEGIN:VCALENDAR
VERSION:2.0
PRODID:-//The Work of a Carpenter Ministries - ECPv6.15.20//NONSGML v1.0//EN
CALSCALE:GREGORIAN
METHOD:PUBLISH
X-WR-CALNAME:The Work of a Carpenter Ministries
X-ORIGINAL-URL:https://www.theworkofacarpenterministries.org
X-WR-CALDESC:Events for The Work of a Carpenter Ministries
REFRESH-INTERVAL;VALUE=DURATION:PT1H
X-Robots-Tag:noindex
X-PUBLISHED-TTL:PT1H
BEGIN:VTIMEZONE
TZID:UTC
BEGIN:STANDARD
TZOFFSETFROM:+0000
TZOFFSETTO:+0000
TZNAME:UTC
DTSTART:20250101T000000
END:STANDARD
END:VTIMEZONE
BEGIN:VEVENT
DTSTART;TZID=UTC:20260507T103000
DTEND;TZID=UTC:20260507T120000
DTSTAMP:20260423T171719
CREATED:20260331T211353Z
LAST-MODIFIED:20260331T211620Z
UID:10000012-1778149800-1778155200@www.theworkofacarpenterministries.org
SUMMARY:Carbondale Assembly of God (Senior Adult Breakfast)
DESCRIPTION:Worship\, Special Music\, and Message.
URL:https://www.theworkofacarpenterministries.org/event/carbondale-assembly-of-god-senior-adult-breakfast/
LOCATION:Carbondale Assembly of God\, 2135 W 51st Street\, Tulsa\, OK\, 74107\, United States
END:VEVENT
END:VCALENDAR