BEGIN:VCALENDAR
VERSION:2.0
PRODID:-//The Work of a Carpenter Ministries - ECPv6.15.20//NONSGML v1.0//EN
CALSCALE:GREGORIAN
METHOD:PUBLISH
X-ORIGINAL-URL:https://www.theworkofacarpenterministries.org
X-WR-CALDESC:Events for The Work of a Carpenter Ministries
REFRESH-INTERVAL;VALUE=DURATION:PT1H
X-Robots-Tag:noindex
X-PUBLISHED-TTL:PT1H
BEGIN:VTIMEZONE
TZID:UTC
BEGIN:STANDARD
TZOFFSETFROM:+0000
TZOFFSETTO:+0000
TZNAME:UTC
DTSTART:20250101T000000
END:STANDARD
END:VTIMEZONE
BEGIN:VEVENT
DTSTART;TZID=UTC:20260621T100000
DTEND;TZID=UTC:20260621T120000
DTSTAMP:20260423T223538
CREATED:20260423T164110Z
LAST-MODIFIED:20260423T164113Z
UID:10000025-1782036000-1782043200@www.theworkofacarpenterministries.org
SUMMARY:First Baptist Church of Manvel\, TX
DESCRIPTION:
URL:https://www.theworkofacarpenterministries.org/event/first-baptist-church-of-manvel-tx/
LOCATION:First Baptist Church Manvel\, TX\, 6900 Masters Rd\, Manvel\, Texas\, 77578\, United States
END:VEVENT
END:VCALENDAR